BEGIN:VCALENDAR
VERSION:2.0
PRODID:-//ddaysoftware.com//NONSGML DDay.iCal 1.0//EN
BEGIN:VEVENT
DESCRIPTION:YOUR FAMILY ENTERTAINMENT AG Veröffentlichung Halbjahresfinanzb
 ericht 2023\n\n (https://www.finanznachrichten.de)
DTEND:20230928T235900
DTSTAMP:20260424T175813Z
DTSTART;VALUE=DATE:20230928
LOCATION:
SEQUENCE:0
SUMMARY:YOUR FAMILY ENTERTAINMENT AG Veröffentlichung Halbjahresfinanzberic
 ht 2023
UID:ac7f7c09-6afe-4f67-82fd-d4a450c21730
END:VEVENT
END:VCALENDAR
