BEGIN:VCALENDAR
VERSION:2.0
PRODID:-//ddaysoftware.com//NONSGML DDay.iCal 1.0//EN
BEGIN:VEVENT
DESCRIPTION:DEUTSCHE TELEKOM AG Veröffentlichung Halbjahresfinanzbericht\n\
 n (https://www.finanznachrichten.de)
DTEND;VALUE=DATE:20260807
DTSTAMP:20260419T130017Z
DTSTART;VALUE=DATE:20260806
LOCATION:
SEQUENCE:0
SUMMARY:DEUTSCHE TELEKOM AG Veröffentlichung Halbjahresfinanzbericht
UID:f36b9433-6b74-4afe-a497-5f94e504b4e3
END:VEVENT
END:VCALENDAR
