BEGIN:VCALENDAR
VERSION:2.0
PRODID:-//ddaysoftware.com//NONSGML DDay.iCal 1.0//EN
BEGIN:VEVENT
DESCRIPTION:2G ENERGY AG Vorläufige Zahlen zum 31.12.2025\, Prognose 2026\n
 \n(Aufgrund der internen Umstellung auf ein neues ERP-System ergeben sich 
 in 2026 zeitliche Verzögerungen bei der Aufstellung der Abschlüsse\, wesha
 lb der Konzernabschluss 2025 und der Halbjahresbericht 2026 später als übl
 ich veröffentlicht werden. Das betrifft ebenfalls Veröffentlichungen zu vo
 rläufigen Zahlen dieser Perioden.)\n\n (https://www.finanznachrichten.de)
DTEND;VALUE=DATE:20260522
DTSTAMP:20260421T102419Z
DTSTART;VALUE=DATE:20260521
LOCATION:
SEQUENCE:0
SUMMARY:2G ENERGY AG Vorläufige Zahlen zum 31.12.2025\, Prognose 2026\n\n(A
 ufgrund der internen Umstellung auf ein neues ERP-System ergeben sich in 2
 026 zeitliche Verzögerungen bei der Aufstellung der Abschlüsse\, weshalb d
 er Konzernabschluss 2025 und der Halbjahresbericht 2026 später als üblich 
 veröffentlicht werden. Das betrifft ebenfalls Veröffentlichungen zu vorläu
 figen Zahlen dieser Perioden.)
UID:78eb5342-5209-4753-b245-668384a55b02
END:VEVENT
END:VCALENDAR
