BEGIN:VCALENDAR
VERSION:2.0
PRODID:-//ddaysoftware.com//NONSGML DDay.iCal 1.0//EN
BEGIN:VEVENT
DESCRIPTION:RENK GROUP AG Pre-Close Call Q1 2026\n\n (https://www.finanznac
 hrichten.de)
DTEND:20260422T235900
DTSTAMP:20260422T002531Z
DTSTART;VALUE=DATE:20260422
LOCATION:
SEQUENCE:0
SUMMARY:RENK GROUP AG Pre-Close Call Q1 2026
UID:bffb8ca0-2b92-44f0-8cb3-8e78d54ef3de
END:VEVENT
END:VCALENDAR
