BEGIN:VCALENDAR
VERSION:2.0
PRODID:-//ddaysoftware.com//NONSGML DDay.iCal 1.0//EN
BEGIN:VEVENT
DESCRIPTION:AIXTRON SE Veröffentlichung Halbjahresfinanzbericht\n\n (https:
 //www.finanznachrichten.de)
DTEND;VALUE=DATE:20260731
DTSTAMP:20260423T155349Z
DTSTART;VALUE=DATE:20260730
LOCATION:
SEQUENCE:0
SUMMARY:AIXTRON SE Veröffentlichung Halbjahresfinanzbericht
UID:83efd316-7451-4cab-b2f8-3e903bb4f8fb
END:VEVENT
END:VCALENDAR
