BEGIN:VCALENDAR
VERSION:2.0
PRODID:-//ddaysoftware.com//NONSGML DDay.iCal 1.0//EN
BEGIN:VEVENT
DESCRIPTION:YOUR FAMILY ENTERTAINMENT AG Ordentliche Hauptversammlung 2023\
 n\n (https://www.finanznachrichten.de)
DTEND:20230627T235900
DTSTAMP:20260424T175813Z
DTSTART;VALUE=DATE:20230627
LOCATION:
SEQUENCE:0
SUMMARY:YOUR FAMILY ENTERTAINMENT AG Ordentliche Hauptversammlung 2023
UID:fa9e9a4f-282f-4f0e-ad07-1e8623d4d4f1
END:VEVENT
END:VCALENDAR
