BEGIN:VCALENDAR
VERSION:2.0
PRODID:-//ddaysoftware.com//NONSGML DDay.iCal 1.0//EN
BEGIN:VEVENT
DESCRIPTION:2G ENERGY AG Veröffentlichung Halbjahresbericht 2026\n\n(Aufgru
 nd der internen Umstellung auf ein neues ERP-System ergeben sich in 2026 z
 eitliche Verzögerungen bei der Aufstellung der Abschlüsse\, weshalb der Ko
 nzernabschluss 2025 und der Halbjahresbericht 2026 später als üblich veröf
 fentlicht werden. Das betrifft ebenfalls Veröffentlichungen zu vorläufigen
  Zahlen dieser Perioden.)\n\n (https://www.finanznachrichten.de)
DTEND;VALUE=DATE:20260930
DTSTAMP:20260421T102448Z
DTSTART;VALUE=DATE:20260929
LOCATION:
SEQUENCE:0
SUMMARY:2G ENERGY AG Veröffentlichung Halbjahresbericht 2026\n\n(Aufgrund d
 er internen Umstellung auf ein neues ERP-System ergeben sich in 2026 zeitl
 iche Verzögerungen bei der Aufstellung der Abschlüsse\, weshalb der Konzer
 nabschluss 2025 und der Halbjahresbericht 2026 später als üblich veröffent
 licht werden. Das betrifft ebenfalls Veröffentlichungen zu vorläufigen Zah
 len dieser Perioden.)
UID:5f25d9d2-bba1-4193-ae1f-c31f8ed12a52
END:VEVENT
END:VCALENDAR
