BEGIN:VCALENDAR
VERSION:2.0
PRODID:-//ddaysoftware.com//NONSGML DDay.iCal 1.0//EN
BEGIN:VEVENT
DESCRIPTION:ARTEC TECHNOLOGIES AG m:access Forum im Rahmen der 41. MKK. \n\
 n (https://www.finanznachrichten.de)
DTEND;VALUE=DATE:20260424
DTSTAMP:20260422T172719Z
DTSTART;VALUE=DATE:20260423
LOCATION:
SEQUENCE:0
SUMMARY:ARTEC TECHNOLOGIES AG m:access Forum im Rahmen der 41. MKK. 
UID:2857eb41-78ad-4790-85f6-1951edce8256
END:VEVENT
END:VCALENDAR
