BEGIN:VCALENDAR
VERSION:2.0
PRODID:-//ddaysoftware.com//NONSGML DDay.iCal 1.0//EN
BEGIN:VEVENT
DESCRIPTION:HAWESKO HOLDING SE Hauptversammlung\n\n (https://www.finanznach
 richten.de)
DTEND;VALUE=DATE:20250612
DTSTAMP:20260422T002020Z
DTSTART;VALUE=DATE:20250611
LOCATION:
SEQUENCE:0
SUMMARY:HAWESKO HOLDING SE Hauptversammlung
UID:f5771ccd-3214-4dbb-b51d-f237650f8dd9
END:VEVENT
END:VCALENDAR
