BEGIN:VCALENDAR
VERSION:2.0
PRODID:-//ddaysoftware.com//NONSGML DDay.iCal 1.0//EN
BEGIN:VEVENT
DESCRIPTION:SARTORIUS AG VZ Veröffentlichung Quartalsmitteilung (Stichtag Q
 1)\n\n (https://www.finanznachrichten.de)
DTEND;VALUE=DATE:20250417
DTSTAMP:20260422T220733Z
DTSTART;VALUE=DATE:20250416
LOCATION:
SEQUENCE:0
SUMMARY:SARTORIUS AG VZ Veröffentlichung Quartalsmitteilung (Stichtag Q1)
UID:3f3336c8-12a5-41c0-9ccb-e11baf7e56ef
END:VEVENT
END:VCALENDAR
