BEGIN:VCALENDAR
VERSION:2.0
PRODID:-//ddaysoftware.com//NONSGML DDay.iCal 1.0//EN
BEGIN:VEVENT
DESCRIPTION:ECKERT & ZIEGLER SE Veröffentlichung Jahresfinanzbericht\n\n (h
 ttps://www.finanznachrichten.de)
DTEND;VALUE=DATE:20250328
DTSTAMP:20260420T003408Z
DTSTART;VALUE=DATE:20250327
LOCATION:
SEQUENCE:0
SUMMARY:ECKERT & ZIEGLER SE Veröffentlichung Jahresfinanzbericht
UID:7f4dab51-24c9-4a02-8038-c414ee7dbd6a
END:VEVENT
END:VCALENDAR
