BEGIN:VCALENDAR
VERSION:2.0
PRODID:-//ddaysoftware.com//NONSGML DDay.iCal 1.0//EN
BEGIN:VEVENT
DESCRIPTION:YOUR FAMILY ENTERTAINMENT AG Veröffentlichung Jahresfinanzberic
 ht 2023\n\n (https://www.finanznachrichten.de)
DTEND:20240426T235900
DTSTAMP:20260424T175813Z
DTSTART;VALUE=DATE:20240426
LOCATION:
SEQUENCE:0
SUMMARY:YOUR FAMILY ENTERTAINMENT AG Veröffentlichung Jahresfinanzbericht 2
 023
UID:b60c242f-030a-4e49-8557-1c36a6fbd333
END:VEVENT
END:VCALENDAR
