BEGIN:VCALENDAR
VERSION:2.0
PRODID:-//ddaysoftware.com//NONSGML DDay.iCal 1.0//EN
BEGIN:VEVENT
DESCRIPTION:FLATEXDEGIRO SE https://flatexdegiro.com/de/investor-relations/
 annual-general-meetings\n\n (https://www.finanznachrichten.de)
DTEND;VALUE=DATE:20250603
DTSTAMP:20260420T084232Z
DTSTART;VALUE=DATE:20250602
LOCATION:
SEQUENCE:0
SUMMARY:FLATEXDEGIRO SE https://flatexdegiro.com/de/investor-relations/annu
 al-general-meetings
UID:54168ead-2ec8-4888-bf60-18a4d018f79f
END:VEVENT
END:VCALENDAR
