BEGIN:VCALENDAR
VERSION:2.0
PRODID:-//ddaysoftware.com//NONSGML DDay.iCal 1.0//EN
BEGIN:VEVENT
DESCRIPTION:SARTORIUS AG VZ Veröffentlichung Halbjahresfinanzbericht\n\n (h
 ttps://www.finanznachrichten.de)
DTEND;VALUE=DATE:20250723
DTSTAMP:20260422T220703Z
DTSTART;VALUE=DATE:20250722
LOCATION:
SEQUENCE:0
SUMMARY:SARTORIUS AG VZ Veröffentlichung Halbjahresfinanzbericht
UID:0d3d8280-fab6-4b9e-95a0-78d6af82eef8
END:VEVENT
END:VCALENDAR
