BEGIN:VCALENDAR
VERSION:2.0
PRODID:-//ddaysoftware.com//NONSGML DDay.iCal 1.0//EN
BEGIN:VEVENT
DESCRIPTION:AIXTRON SE Veröffentlichung Quartalsmitteilung (Stichtag Q1)\n\
 n (https://www.finanznachrichten.de)
DTEND;VALUE=DATE:20260501
DTSTAMP:20260423T155440Z
DTSTART;VALUE=DATE:20260430
LOCATION:
SEQUENCE:0
SUMMARY:AIXTRON SE Veröffentlichung Quartalsmitteilung (Stichtag Q1)
UID:fed5d22e-f3d4-4015-a97f-418374939dde
END:VEVENT
END:VCALENDAR
