BEGIN:VCALENDAR
VERSION:2.0
PRODID:-//ddaysoftware.com//NONSGML DDay.iCal 1.0//EN
BEGIN:VEVENT
DESCRIPTION:EDEL SE & CO KGAA Hauptversammlung\n\n (https://www.finanznachr
 ichten.de)
DTEND;VALUE=DATE:20180524
DTSTAMP:20260422T015947Z
DTSTART;VALUE=DATE:20180523
LOCATION:
SEQUENCE:0
SUMMARY:EDEL SE & CO KGAA Hauptversammlung
UID:6c6c113c-af9e-435d-93af-66acb2fe0072
END:VEVENT
END:VCALENDAR
