BEGIN:VCALENDAR
VERSION:2.0
PRODID:-//ddaysoftware.com//NONSGML DDay.iCal 1.0//EN
BEGIN:VEVENT
DESCRIPTION:DEUTSCHE TELEKOM AG Veröffentlichung Quartalsfinanzbericht (Sti
 chtag Q1)\n\n (https://www.finanznachrichten.de)
DTEND;VALUE=DATE:20260514
DTSTAMP:20260419T130018Z
DTSTART;VALUE=DATE:20260513
LOCATION:
SEQUENCE:0
SUMMARY:DEUTSCHE TELEKOM AG Veröffentlichung Quartalsfinanzbericht (Stichta
 g Q1)
UID:a4a10588-b22d-4fe2-aaaf-d46da5ac2b44
END:VEVENT
END:VCALENDAR
