BEGIN:VCALENDAR
VERSION:2.0
PRODID:-//ddaysoftware.com//NONSGML DDay.iCal 1.0//EN
BEGIN:VEVENT
DESCRIPTION:YOUR FAMILY ENTERTAINMENT AG Veröffentlichung Halbjahresfinanzb
 ericht 2024\n\n (https://www.finanznachrichten.de)
DTEND:20240927T235900
DTSTAMP:20260424T175813Z
DTSTART;VALUE=DATE:20240927
LOCATION:
SEQUENCE:0
SUMMARY:YOUR FAMILY ENTERTAINMENT AG Veröffentlichung Halbjahresfinanzberic
 ht 2024
UID:0d6607f0-c2f2-454f-b5ef-ffc78c57f190
END:VEVENT
END:VCALENDAR
