BEGIN:VCALENDAR
VERSION:2.0
PRODID:-//ddaysoftware.com//NONSGML DDay.iCal 1.0//EN
BEGIN:VEVENT
DESCRIPTION:SARTORIUS AG VZ Veröffentlichung Quartalsmitteilung (Stichtag Q
 3)\n\n (https://www.finanznachrichten.de)
DTEND;VALUE=DATE:20251017
DTSTAMP:20260422T220749Z
DTSTART;VALUE=DATE:20251016
LOCATION:
SEQUENCE:0
SUMMARY:SARTORIUS AG VZ Veröffentlichung Quartalsmitteilung (Stichtag Q3)
UID:67aa0dbf-e954-4db7-9756-e20551949014
END:VEVENT
END:VCALENDAR
