BEGIN:VCALENDAR
VERSION:2.0
PRODID:-//ddaysoftware.com//NONSGML DDay.iCal 1.0//EN
BEGIN:VEVENT
DESCRIPTION:SILTRONIC AG Veröffentlichung Jahresfinanzbericht\n\n (https://
 www.finanznachrichten.de)
DTEND;VALUE=DATE:20260313
DTSTAMP:20260421T030334Z
DTSTART;VALUE=DATE:20260312
LOCATION:
SEQUENCE:0
SUMMARY:SILTRONIC AG Veröffentlichung Jahresfinanzbericht
UID:7b9635c5-ed88-4a48-a2cc-223d8f88bd80
END:VEVENT
END:VCALENDAR
