BEGIN:VCALENDAR
VERSION:2.0
PRODID:-//ddaysoftware.com//NONSGML DDay.iCal 1.0//EN
BEGIN:VEVENT
DESCRIPTION:DWS GROUP GMBH & CO KGAA Geschäftsbericht 2024\n\n (https://www
 .finanznachrichten.de)
DTEND;VALUE=DATE:20250314
DTSTAMP:20260422T205647Z
DTSTART;VALUE=DATE:20250313
LOCATION:
SEQUENCE:0
SUMMARY:DWS GROUP GMBH & CO KGAA Geschäftsbericht 2024
UID:edfc4373-cf52-4ed3-aca4-6fb35aa55d1d
END:VEVENT
END:VCALENDAR
