BEGIN:VCALENDAR
VERSION:2.0
PRODID:-//ddaysoftware.com//NONSGML DDay.iCal 1.0//EN
BEGIN:VEVENT
DESCRIPTION:RWE AG Bericht über das Geschäftsjahr 2025\n\n (https://www.fin
 anznachrichten.de)
DTEND;VALUE=DATE:20260313
DTSTAMP:20260423T155103Z
DTSTART;VALUE=DATE:20260312
LOCATION:
SEQUENCE:0
SUMMARY:RWE AG Bericht über das Geschäftsjahr 2025
UID:f903652c-1088-4ff1-b65c-711ffb6efa47
END:VEVENT
END:VCALENDAR
