BEGIN:VCALENDAR
VERSION:2.0
PRODID:-//ddaysoftware.com//NONSGML DDay.iCal 1.0//EN
BEGIN:VEVENT
DESCRIPTION:NUERNBERGER BETEILIGUNGS-AG Veröffentlichung Konzern-/Jahresabs
 chluss\n\n (https://www.finanznachrichten.de)
DTEND;VALUE=DATE:20260425
DTSTAMP:20260422T173148Z
DTSTART;VALUE=DATE:20260424
LOCATION:
SEQUENCE:0
SUMMARY:NUERNBERGER BETEILIGUNGS-AG Veröffentlichung Konzern-/Jahresabschlu
 ss
UID:74fdbeab-4043-4543-b9fc-2f15e4d4414a
END:VEVENT
END:VCALENDAR
