BEGIN:VCALENDAR
VERSION:2.0
PRODID:-//ddaysoftware.com//NONSGML DDay.iCal 1.0//EN
BEGIN:VEVENT
DESCRIPTION:SILTRONIC AG Pressemeldung zur Quartalsmitteilung (Stichtag Q3)
 \n\n (https://www.finanznachrichten.de)
DTEND;VALUE=DATE:20261030
DTSTAMP:20260421T030614Z
DTSTART;VALUE=DATE:20261029
LOCATION:
SEQUENCE:0
SUMMARY:SILTRONIC AG Pressemeldung zur Quartalsmitteilung (Stichtag Q3)
UID:7efa08ae-a978-4758-b96a-5bdef592183a
END:VEVENT
END:VCALENDAR
