BEGIN:VCALENDAR
VERSION:2.0
PRODID:-//ddaysoftware.com//NONSGML DDay.iCal 1.0//EN
BEGIN:VEVENT
DESCRIPTION:COVESTRO AG Veröffentlichung Jahresfinanzbericht\n\n (https://w
 ww.finanznachrichten.de)
DTEND;VALUE=DATE:20260227
DTSTAMP:20260423T155102Z
DTSTART;VALUE=DATE:20260226
LOCATION:
SEQUENCE:0
SUMMARY:COVESTRO AG Veröffentlichung Jahresfinanzbericht
UID:05ba5686-6e16-4c40-87dc-188764397502
END:VEVENT
END:VCALENDAR
