BEGIN:VCALENDAR
VERSION:2.0
PRODID:-//ddaysoftware.com//NONSGML DDay.iCal 1.0//EN
BEGIN:VEVENT
DESCRIPTION:KRONES AG Veröffentlichung Quartalsmitteilung zum 30.09.2025\n\
 n (https://www.finanznachrichten.de)
DTEND;VALUE=DATE:20251108
DTSTAMP:20260426T004023Z
DTSTART;VALUE=DATE:20251107
LOCATION:
SEQUENCE:0
SUMMARY:KRONES AG Veröffentlichung Quartalsmitteilung zum 30.09.2025
UID:7d15bd20-cb63-4d07-a4de-2116b7ac52a7
END:VEVENT
END:VCALENDAR
