BEGIN:VCALENDAR
VERSION:2.0
PRODID:-//ddaysoftware.com//NONSGML DDay.iCal 1.0//EN
BEGIN:VEVENT
DESCRIPTION:SARTORIUS AG VZ Veröffentlichung Jahresfinanzbericht\n\n (https
 ://www.finanznachrichten.de)
DTEND;VALUE=DATE:20260217
DTSTAMP:20260422T220829Z
DTSTART;VALUE=DATE:20260216
LOCATION:
SEQUENCE:0
SUMMARY:SARTORIUS AG VZ Veröffentlichung Jahresfinanzbericht
UID:a2e701d6-8bc1-455a-88bf-5bcb178d0f08
END:VEVENT
END:VCALENDAR
