BEGIN:VCALENDAR
VERSION:2.0
PRODID:-//ddaysoftware.com//NONSGML DDay.iCal 1.0//EN
BEGIN:VEVENT
DESCRIPTION:DEUTSCHE TELEKOM AG Veröffentlichung Jahresfinanzbericht\n\n (h
 ttps://www.finanznachrichten.de)
DTEND;VALUE=DATE:20250227
DTSTAMP:20260419T125701Z
DTSTART;VALUE=DATE:20250226
LOCATION:
SEQUENCE:0
SUMMARY:DEUTSCHE TELEKOM AG Veröffentlichung Jahresfinanzbericht
UID:53e173b8-f140-44cc-9162-2142eff14e5b
END:VEVENT
END:VCALENDAR
