BEGIN:VCALENDAR
VERSION:2.0
PRODID:-//ddaysoftware.com//NONSGML DDay.iCal 1.0//EN
BEGIN:VEVENT
DESCRIPTION:AIXTRON SE 28. Ordentliche Hauptversammlung der AIXTRON SE\n\n 
 (https://www.finanznachrichten.de)
DTEND;VALUE=DATE:20250516
DTSTAMP:20260423T155103Z
DTSTART;VALUE=DATE:20250515
LOCATION:
SEQUENCE:0
SUMMARY:AIXTRON SE 28. Ordentliche Hauptversammlung der AIXTRON SE
UID:1da96dbd-8240-47b8-b67e-af29704231b9
END:VEVENT
END:VCALENDAR
