BEGIN:VCALENDAR
VERSION:2.0
PRODID:-//ddaysoftware.com//NONSGML DDay.iCal 1.0//EN
BEGIN:VEVENT
DESCRIPTION:GESCO SE Veröffentlichung Jahresfinanzbericht\n\n (https://www.
 finanznachrichten.de)
DTEND;VALUE=DATE:20260416
DTSTAMP:20260421T012926Z
DTSTART;VALUE=DATE:20260415
LOCATION:
SEQUENCE:0
SUMMARY:GESCO SE Veröffentlichung Jahresfinanzbericht
UID:8bc07683-9758-479b-bd16-822ede8dd799
END:VEVENT
END:VCALENDAR
