BEGIN:VCALENDAR
VERSION:2.0
PRODID:-//ddaysoftware.com//NONSGML DDay.iCal 1.0//EN
BEGIN:VEVENT
DESCRIPTION:SILTRONIC AG Hauptversammlung\n\n (https://www.finanznachrichte
 n.de)
DTEND;VALUE=DATE:20250513
DTSTAMP:20260421T030334Z
DTSTART;VALUE=DATE:20250512
LOCATION:
SEQUENCE:0
SUMMARY:SILTRONIC AG Hauptversammlung
UID:3fc84ead-7f6a-4420-8acb-df01d40ae399
END:VEVENT
END:VCALENDAR
