BEGIN:VCALENDAR
VERSION:2.0
PRODID:-//ddaysoftware.com//NONSGML DDay.iCal 1.0//EN
BEGIN:VEVENT
DESCRIPTION:LPKF LASER & ELECTRONICS SE Veröffentlichung Jahresfinanzberich
 t\n\n (https://www.finanznachrichten.de)
DTEND;VALUE=DATE:20260327
DTSTAMP:20260423T025500Z
DTSTART;VALUE=DATE:20260326
LOCATION:
SEQUENCE:0
SUMMARY:LPKF LASER & ELECTRONICS SE Veröffentlichung Jahresfinanzbericht
UID:52a811ee-b34e-457a-aa5d-09c61fac3fd1
END:VEVENT
END:VCALENDAR
