BEGIN:VCALENDAR
VERSION:2.0
PRODID:-//ddaysoftware.com//NONSGML DDay.iCal 1.0//EN
BEGIN:VEVENT
DESCRIPTION:HAWESKO HOLDING SE Veröffentlichung Quartalsmitteilung (Stichta
 g Q3)\n\n (https://www.finanznachrichten.de)
DTEND;VALUE=DATE:20251115
DTSTAMP:20260422T002020Z
DTSTART;VALUE=DATE:20251114
LOCATION:
SEQUENCE:0
SUMMARY:HAWESKO HOLDING SE Veröffentlichung Quartalsmitteilung (Stichtag Q3
 )
UID:3c6f0229-b691-4bdd-a9f5-fd5e8235d8c8
END:VEVENT
END:VCALENDAR
