BEGIN:VCALENDAR
VERSION:2.0
PRODID:-//ddaysoftware.com//NONSGML DDay.iCal 1.0//EN
BEGIN:VEVENT
DESCRIPTION:LPKF LASER & ELECTRONICS SE Hauptversammlung\n\n (https://www.f
 inanznachrichten.de)
DTEND;VALUE=DATE:20250605
DTSTAMP:20260423T025500Z
DTSTART;VALUE=DATE:20250604
LOCATION:
SEQUENCE:0
SUMMARY:LPKF LASER & ELECTRONICS SE Hauptversammlung
UID:2fb2634b-437a-49c1-9bea-498f805ca413
END:VEVENT
END:VCALENDAR
