BEGIN:VCALENDAR
VERSION:2.0
PRODID:-//ddaysoftware.com//NONSGML DDay.iCal 1.0//EN
BEGIN:VEVENT
DESCRIPTION:DEUTSCHE BOERSE AG Veröffentlichung Quartalsmitteilung Q3/2026\
 n\n (https://www.finanznachrichten.de)
DTEND;VALUE=DATE:20261021
DTSTAMP:20260423T155424Z
DTSTART;VALUE=DATE:20261020
LOCATION:
SEQUENCE:0
SUMMARY:DEUTSCHE BOERSE AG Veröffentlichung Quartalsmitteilung Q3/2026
UID:9df7a853-ce51-42b2-8638-a1647316fd3f
END:VEVENT
END:VCALENDAR
