BEGIN:VCALENDAR
VERSION:2.0
PRODID:-//ddaysoftware.com//NONSGML DDay.iCal 1.0//EN
BEGIN:VEVENT
DESCRIPTION:CENIT AG Veröffentlichung Quartalsfinanzbericht (Stichtag Q3)\n
 \n (https://www.finanznachrichten.de)
DTEND;VALUE=DATE:20251107
DTSTAMP:20260425T171058Z
DTSTART;VALUE=DATE:20251106
LOCATION:
SEQUENCE:0
SUMMARY:CENIT AG Veröffentlichung Quartalsfinanzbericht (Stichtag Q3)
UID:c7c30482-d44a-4d11-9ffa-2856e002f5fa
END:VEVENT
END:VCALENDAR
