BEGIN:VCALENDAR
VERSION:2.0
PRODID:-//ddaysoftware.com//NONSGML DDay.iCal 1.0//EN
BEGIN:VEVENT
DESCRIPTION:HAWESKO HOLDING SE Veröffentlichung Quartalsmitteilung (Stichta
 g Q3)\n\n (https://www.finanznachrichten.de)
DTEND;VALUE=DATE:20241112
DTSTAMP:20260422T002020Z
DTSTART;VALUE=DATE:20241111
LOCATION:
SEQUENCE:0
SUMMARY:HAWESKO HOLDING SE Veröffentlichung Quartalsmitteilung (Stichtag Q3
 )
UID:c7b146ce-76cb-4abc-b34e-d66fbfecb209
END:VEVENT
END:VCALENDAR
