BEGIN:VCALENDAR
VERSION:2.0
PRODID:-//ddaysoftware.com//NONSGML DDay.iCal 1.0//EN
BEGIN:VEVENT
DESCRIPTION:2G ENERGY AG Berenberg and Goldman Sachs Fifteenth German Corpo
 rate Conference\n\n (https://www.finanznachrichten.de)
DTEND;VALUE=DATE:20260924
DTSTAMP:20260421T101923Z
DTSTART;VALUE=DATE:20260923
LOCATION:
SEQUENCE:0
SUMMARY:2G ENERGY AG Berenberg and Goldman Sachs Fifteenth German Corporate
  Conference
UID:17a86059-3e47-47a4-aa8e-13e6f9109160
END:VEVENT
END:VCALENDAR
