BEGIN:VCALENDAR
VERSION:2.0
PRODID:-//ddaysoftware.com//NONSGML DDay.iCal 1.0//EN
BEGIN:VEVENT
DESCRIPTION:FIELMANN GROUP AG Analystenveranstaltung\n\n (https://www.finan
 znachrichten.de)
DTEND;VALUE=DATE:20250918
DTSTAMP:20260420T031045Z
DTSTART;VALUE=DATE:20250917
LOCATION:
SEQUENCE:0
SUMMARY:FIELMANN GROUP AG Analystenveranstaltung
UID:a840cdea-cca8-4d18-ba33-886e694455ca
END:VEVENT
END:VCALENDAR
