BEGIN:VCALENDAR
VERSION:2.0
PRODID:-//ddaysoftware.com//NONSGML DDay.iCal 1.0//EN
BEGIN:VEVENT
DESCRIPTION:SYMRISE AG Konzernzwischenbericht Januar - Juni 2025\n\n (https
 ://www.finanznachrichten.de)
DTEND;VALUE=DATE:20250731
DTSTAMP:20260423T010157Z
DTSTART;VALUE=DATE:20250730
LOCATION:
SEQUENCE:0
SUMMARY:SYMRISE AG Konzernzwischenbericht Januar - Juni 2025
UID:b8ecf2ae-e752-45cb-893c-2a19dc7a2d5a
END:VEVENT
END:VCALENDAR
