BEGIN:VCALENDAR
VERSION:2.0
PRODID:-//ddaysoftware.com//NONSGML DDay.iCal 1.0//EN
BEGIN:VEVENT
DESCRIPTION:COVESTRO AG Hauptversammlung\n\n (https://www.finanznachrichten
 .de)
DTEND;VALUE=DATE:20240418
DTSTAMP:20260423T155103Z
DTSTART;VALUE=DATE:20240417
LOCATION:
SEQUENCE:0
SUMMARY:COVESTRO AG Hauptversammlung
UID:7d5d7b5a-ef14-4e3e-b47f-996bd0ef5817
END:VEVENT
END:VCALENDAR
