BEGIN:VCALENDAR
VERSION:2.0
PRODID:-//ddaysoftware.com//NONSGML DDay.iCal 1.0//EN
BEGIN:VEVENT
DESCRIPTION:RWE AG Investoren- und Analystenkonferenz zum Geschäftsjahr 202
 5\n\n (https://www.finanznachrichten.de)
DTEND;VALUE=DATE:20260313
DTSTAMP:20260423T155102Z
DTSTART;VALUE=DATE:20260312
LOCATION:
SEQUENCE:0
SUMMARY:RWE AG Investoren- und Analystenkonferenz zum Geschäftsjahr 2025
UID:17e48ae5-019d-4148-8dfc-1514511daefe
END:VEVENT
END:VCALENDAR
