BEGIN:VCALENDAR
VERSION:2.0
PRODID:-//ddaysoftware.com//NONSGML DDay.iCal 1.0//EN
BEGIN:VEVENT
DESCRIPTION:FIELMANN GROUP AG Hauptversammlung\n\n (https://www.finanznachr
 ichten.de)
DTEND;VALUE=DATE:20260710
DTSTAMP:20260420T031434Z
DTSTART;VALUE=DATE:20260709
LOCATION:
SEQUENCE:0
SUMMARY:FIELMANN GROUP AG Hauptversammlung
UID:c4787e75-a30a-422a-84cc-4d0cada6e288
END:VEVENT
END:VCALENDAR
