BEGIN:VCALENDAR
VERSION:2.0
PRODID:-//ddaysoftware.com//NONSGML DDay.iCal 1.0//EN
BEGIN:VEVENT
DESCRIPTION:NORDEX SE Veröffentlichung Quartalsmitteilung (Stichtag Q1)\n\n
  (https://www.finanznachrichten.de)
DTEND:20260427T140000
DTSTAMP:20260422T172719Z
DTSTART;VALUE=DATE:20260427
LOCATION:
SEQUENCE:0
SUMMARY:NORDEX SE Veröffentlichung Quartalsmitteilung (Stichtag Q1)
UID:c68b2862-5644-4e89-b288-53b4a23c149b
END:VEVENT
END:VCALENDAR
