BEGIN:VCALENDAR
VERSION:2.0
PRODID:-//ddaysoftware.com//NONSGML DDay.iCal 1.0//EN
BEGIN:VEVENT
DESCRIPTION:GESCO SE Bilanzpressekonferenz\n\n (https://www.finanznachricht
 en.de)
DTEND;VALUE=DATE:20250430
DTSTAMP:20260422T144720Z
DTSTART;VALUE=DATE:20250429
LOCATION:
SEQUENCE:0
SUMMARY:GESCO SE Bilanzpressekonferenz
UID:7e35fc4e-ddb5-4ed0-88f1-a69343b26338
END:VEVENT
END:VCALENDAR
