BEGIN:VCALENDAR
VERSION:2.0
PRODID:-//ddaysoftware.com//NONSGML DDay.iCal 1.0//EN
BEGIN:VEVENT
DESCRIPTION:RENK GROUP AG 41. Münchner Kapitalmarktkonferenz\n\n (https://w
 ww.finanznachrichten.de)
DTEND:20260423T235900
DTSTAMP:20260422T172719Z
DTSTART;VALUE=DATE:20260423
LOCATION:
SEQUENCE:0
SUMMARY:RENK GROUP AG 41. Münchner Kapitalmarktkonferenz
UID:10461f1c-2c87-45dc-8f66-d8c3fc32aeeb
END:VEVENT
END:VCALENDAR
